Package: biomaRt Version: 2.60.1 Command: F:\biocbuild\bbs-3.19-bioc\R\bin\R.exe CMD INSTALL biomaRt StartedAt: 2024-06-26 16:06:07 -0400 (Wed, 26 Jun 2024) EndedAt: 2024-06-26 16:06:35 -0400 (Wed, 26 Jun 2024) EllapsedTime: 28.2 seconds RetCode: 0 Status: OK