Package: biomaRt Version: 2.60.1 Command: chmod a+r biomaRt -R && F:\biocbuild\bbs-3.19-bioc\R\bin\R.exe CMD build --keep-empty-dirs --no-resave-data biomaRt StartedAt: 2024-06-26 17:26:56 -0400 (Wed, 26 Jun 2024) EndedAt: 2024-06-26 17:28:49 -0400 (Wed, 26 Jun 2024) EllapsedTime: 112.6 seconds RetCode: 0 Status: OK PackageFile: biomaRt_2.60.1.tar.gz PackageFileSize: 842 KiB