Package: biomaRt Version: 2.60.0 Command: /Library/Frameworks/R.framework/Resources/bin/R CMD check --install=check:biomaRt.install-out.txt --library=/Library/Frameworks/R.framework/Resources/library --no-vignettes --timings biomaRt_2.60.0.tar.gz StartedAt: 2024-06-10 08:55:12 -0400 (Mon, 10 Jun 2024) EndedAt: 2024-06-10 08:58:09 -0400 (Mon, 10 Jun 2024) EllapsedTime: 177.0 seconds RetCode: 1 Status: ERROR CheckDir: biomaRt.Rcheck Warnings: NA