Package: biomaRt Version: 2.60.1 Command: /Library/Frameworks/R.framework/Resources/bin/R CMD INSTALL biomaRt StartedAt: 2024-10-16 16:58:39 -0400 (Wed, 16 Oct 2024) EndedAt: 2024-10-16 16:58:58 -0400 (Wed, 16 Oct 2024) EllapsedTime: 19.4 seconds RetCode: 0 Status: OK