Package: biomaRt Version: 2.60.1 Command: rm -rf biomaRt.buildbin-libdir && mkdir biomaRt.buildbin-libdir && /Users/biocbuild/BBS/utils/build-universal.sh biomaRt_2.60.1.tar.gz /Library/Frameworks/R.framework/Resources/bin/R biomaRt.buildbin-libdir StartedAt: 2024-10-18 17:31:52 -0400 (Fri, 18 Oct 2024) EndedAt: 2024-10-18 17:32:17 -0400 (Fri, 18 Oct 2024) EllapsedTime: 25.3 seconds RetCode: 0 Status: OK PackageFile: biomaRt_2.60.1.tgz PackageFileSize: 917.9 KiB