Package: biodbUniprot Version: 1.10.0 Command: /home/biocbuild/bbs-3.19-bioc/R/bin/R CMD INSTALL biodbUniprot StartedAt: 2024-10-16 16:26:54 -0400 (Wed, 16 Oct 2024) EndedAt: 2024-10-16 16:27:02 -0400 (Wed, 16 Oct 2024) EllapsedTime: 7.8 seconds RetCode: 0 Status: OK