Package: biodbUniprot Version: 1.10.0 Command: /Library/Frameworks/R.framework/Resources/bin/R CMD build --keep-empty-dirs --no-resave-data biodbUniprot StartedAt: 2024-10-16 17:30:00 -0400 (Wed, 16 Oct 2024) EndedAt: 2024-10-16 17:30:58 -0400 (Wed, 16 Oct 2024) EllapsedTime: 58.2 seconds RetCode: 0 Status: OK PackageFile: biodbUniprot_1.10.0.tar.gz PackageFileSize: 410.8 KiB