Package: biodbUniprot Version: 1.10.0 Command: /home/biocbuild/R/R-beta-2024-04-15_r86425/bin/R CMD build --keep-empty-dirs --no-resave-data biodbUniprot StartedAt: 2024-05-08 22:47:15 -0000 (Wed, 08 May 2024) EndedAt: 2024-05-08 22:47:34 -0000 (Wed, 08 May 2024) EllapsedTime: 19.0 seconds RetCode: 0 Status: OK PackageFile: biodbUniprot_1.10.0.tar.gz PackageFileSize: 476.3 KiB