Package: biodbUniprot Version: 1.10.0 Command: /Library/Frameworks/R.framework/Resources/bin/R CMD INSTALL biodbUniprot StartedAt: 2024-10-16 17:44:45 -0400 (Wed, 16 Oct 2024) EndedAt: 2024-10-16 17:44:54 -0400 (Wed, 16 Oct 2024) EllapsedTime: 8.6 seconds RetCode: 0 Status: OK