Package: biodbNci Version: 1.8.0 Command: rm -rf biodbNci.buildbin-libdir && mkdir biodbNci.buildbin-libdir && E:\biocbuild\bbs-3.19-bioc\R\bin\R.exe CMD INSTALL --build --library=biodbNci.buildbin-libdir biodbNci_1.8.0.tar.gz StartedAt: 2024-10-17 07:25:48 -0400 (Thu, 17 Oct 2024) EndedAt: 2024-10-17 07:27:13 -0400 (Thu, 17 Oct 2024) EllapsedTime: 85.3 seconds RetCode: 0 Status: OK PackageFile: biodbNci_1.8.0.zip PackageFileSize: 902 KiB