Package: biodbNci Version: 1.8.0 Command: /home/biocbuild/bbs-3.19-bioc/R/bin/R CMD INSTALL biodbNci StartedAt: 2024-10-16 16:26:49 -0400 (Wed, 16 Oct 2024) EndedAt: 2024-10-16 16:27:17 -0400 (Wed, 16 Oct 2024) EllapsedTime: 28.0 seconds RetCode: 0 Status: OK