Package: biodbNci Version: 1.8.0 Command: /Library/Frameworks/R.framework/Resources/bin/R CMD build --keep-empty-dirs --no-resave-data biodbNci StartedAt: 2024-10-16 17:29:54 -0400 (Wed, 16 Oct 2024) EndedAt: 2024-10-16 17:31:21 -0400 (Wed, 16 Oct 2024) EllapsedTime: 87.4 seconds RetCode: 0 Status: OK PackageFile: biodbNci_1.8.0.tar.gz PackageFileSize: 312.1 KiB