Package: biodbNci Version: 1.8.0 Command: rm -rf biodbNci.buildbin-libdir && mkdir biodbNci.buildbin-libdir && /Users/biocbuild/BBS/utils/build-universal.sh biodbNci_1.8.0.tar.gz /Library/Frameworks/R.framework/Resources/bin/R biodbNci.buildbin-libdir StartedAt: 2024-06-11 10:20:37 -0400 (Tue, 11 Jun 2024) EndedAt: 2024-06-11 10:21:40 -0400 (Tue, 11 Jun 2024) EllapsedTime: 63.1 seconds RetCode: 0 Status: OK PackageFile: biodbNci_1.8.0.tgz PackageFileSize: 585.1 KiB