Package: biodbNcbi Version: 1.8.0 Command: rm -rf biodbNcbi.buildbin-libdir && mkdir biodbNcbi.buildbin-libdir && E:\biocbuild\bbs-3.19-bioc\R\bin\R.exe CMD INSTALL --build --library=biodbNcbi.buildbin-libdir biodbNcbi_1.8.0.tar.gz StartedAt: 2024-10-17 07:25:44 -0400 (Thu, 17 Oct 2024) EndedAt: 2024-10-17 07:26:10 -0400 (Thu, 17 Oct 2024) EllapsedTime: 25.1 seconds RetCode: 0 Status: OK PackageFile: biodbNcbi_1.8.0.zip PackageFileSize: 1.137 MiB