Package: biodbNcbi Version: 1.8.0 Command: rm -rf biodbNcbi.buildbin-libdir && mkdir biodbNcbi.buildbin-libdir && F:\biocbuild\bbs-3.19-bioc\R\bin\R.exe CMD INSTALL --build --library=biodbNcbi.buildbin-libdir biodbNcbi_1.8.0.tar.gz StartedAt: 2024-06-27 07:54:18 -0400 (Thu, 27 Jun 2024) EndedAt: 2024-06-27 07:54:38 -0400 (Thu, 27 Jun 2024) EllapsedTime: 19.8 seconds RetCode: 0 Status: OK PackageFile: biodbNcbi_1.8.0.zip PackageFileSize: 1.136 MiB