Package: biodbNcbi Version: 1.8.0 Command: /home/biocbuild/bbs-3.19-bioc/R/bin/R CMD INSTALL biodbNcbi StartedAt: 2024-10-16 16:26:55 -0400 (Wed, 16 Oct 2024) EndedAt: 2024-10-16 16:27:06 -0400 (Wed, 16 Oct 2024) EllapsedTime: 11.1 seconds RetCode: 0 Status: OK