Package: biodbNcbi Version: 1.8.0 Command: rm -rf biodbNcbi.buildbin-libdir && mkdir biodbNcbi.buildbin-libdir && /Users/biocbuild/BBS/utils/build-universal.sh biodbNcbi_1.8.0.tar.gz /Library/Frameworks/R.framework/Resources/bin/R biodbNcbi.buildbin-libdir StartedAt: 2024-10-18 17:31:28 -0400 (Fri, 18 Oct 2024) EndedAt: 2024-10-18 17:31:47 -0400 (Fri, 18 Oct 2024) EllapsedTime: 18.4 seconds RetCode: 0 Status: OK PackageFile: biodbNcbi_1.8.0.tgz PackageFileSize: 1.131 MiB