Package: biodbLipidmaps Version: 1.10.0 Command: E:\biocbuild\bbs-3.19-bioc\R\bin\R.exe CMD check --no-multiarch --install=check:biodbLipidmaps.install-out.txt --library=E:\biocbuild\bbs-3.19-bioc\R\library --no-vignettes --timings biodbLipidmaps_1.10.0.tar.gz StartedAt: 2024-10-16 23:18:07 -0400 (Wed, 16 Oct 2024) EndedAt: 2024-10-16 23:21:32 -0400 (Wed, 16 Oct 2024) EllapsedTime: 204.9 seconds RetCode: 0 Status: OK CheckDir: biodbLipidmaps.Rcheck Warnings: 0