Package: biodbLipidmaps Version: 1.10.0 Command: chmod a+r biodbLipidmaps -R && E:\biocbuild\bbs-3.19-bioc\R\bin\R.exe CMD build --keep-empty-dirs --no-resave-data biodbLipidmaps StartedAt: 2024-10-16 17:52:11 -0400 (Wed, 16 Oct 2024) EndedAt: 2024-10-16 17:53:26 -0400 (Wed, 16 Oct 2024) EllapsedTime: 75.1 seconds RetCode: 0 Status: OK PackageFile: biodbLipidmaps_1.10.0.tar.gz PackageFileSize: 304.9 KiB