Package: biodbLipidmaps Version: 1.10.0 Command: rm -rf biodbLipidmaps.buildbin-libdir && mkdir biodbLipidmaps.buildbin-libdir && F:\biocbuild\bbs-3.19-bioc\R\bin\R.exe CMD INSTALL --build --library=biodbLipidmaps.buildbin-libdir biodbLipidmaps_1.10.0.tar.gz StartedAt: 2024-06-27 07:54:17 -0400 (Thu, 27 Jun 2024) EndedAt: 2024-06-27 07:54:33 -0400 (Thu, 27 Jun 2024) EllapsedTime: 16.6 seconds RetCode: 0 Status: OK PackageFile: biodbLipidmaps_1.10.0.zip PackageFileSize: 392.1 KiB