Package: biodbLipidmaps Version: 1.10.0 Command: /home/biocbuild/bbs-3.19-bioc/R/bin/R CMD build --keep-empty-dirs --no-resave-data biodbLipidmaps StartedAt: 2024-10-16 17:16:01 -0400 (Wed, 16 Oct 2024) EndedAt: 2024-10-16 17:16:22 -0400 (Wed, 16 Oct 2024) EllapsedTime: 21.0 seconds RetCode: 0 Status: OK PackageFile: biodbLipidmaps_1.10.0.tar.gz PackageFileSize: 304.9 KiB