Package: biodbLipidmaps Version: 1.10.0 Command: /Library/Frameworks/R.framework/Resources/bin/R CMD INSTALL biodbLipidmaps StartedAt: 2024-10-16 16:22:08 -0400 (Wed, 16 Oct 2024) EndedAt: 2024-10-16 16:22:26 -0400 (Wed, 16 Oct 2024) EllapsedTime: 18.0 seconds RetCode: 0 Status: OK