Package: biodbLipidmaps Version: 1.10.0 Command: /Library/Frameworks/R.framework/Resources/bin/R CMD check --install=check:biodbLipidmaps.install-out.txt --library=/Library/Frameworks/R.framework/Resources/library --no-vignettes --timings biodbLipidmaps_1.10.0.tar.gz StartedAt: 2024-06-09 19:01:36 -0400 (Sun, 09 Jun 2024) EndedAt: 2024-06-09 19:06:55 -0400 (Sun, 09 Jun 2024) EllapsedTime: 319.0 seconds RetCode: 1 Status: ERROR CheckDir: biodbLipidmaps.Rcheck Warnings: NA