Package: biodbLipidmaps Version: 1.10.0 Command: /home/biocbuild/R/R-beta-2024-04-15_r86425/bin/R CMD build --keep-empty-dirs --no-resave-data biodbLipidmaps StartedAt: 2024-05-08 22:46:44 -0000 (Wed, 08 May 2024) EndedAt: 2024-05-08 22:47:06 -0000 (Wed, 08 May 2024) EllapsedTime: 22.0 seconds RetCode: 0 Status: OK PackageFile: biodbLipidmaps_1.10.0.tar.gz PackageFileSize: 370 KiB