Package: biodbLipidmaps Version: 1.10.0 Command: rm -rf biodbLipidmaps.buildbin-libdir && mkdir biodbLipidmaps.buildbin-libdir && /Users/biocbuild/BBS/utils/build-universal.sh biodbLipidmaps_1.10.0.tar.gz /Library/Frameworks/R.framework/Resources/bin/R biodbLipidmaps.buildbin-libdir StartedAt: 2024-06-11 10:20:33 -0400 (Tue, 11 Jun 2024) EndedAt: 2024-06-11 10:20:53 -0400 (Tue, 11 Jun 2024) EllapsedTime: 20.0 seconds RetCode: 0 Status: OK PackageFile: biodbLipidmaps_1.10.0.tgz PackageFileSize: 387 KiB