Package: biodbKegg Version: 1.10.2 Command: chmod a+r biodbKegg -R && E:\biocbuild\bbs-3.19-bioc\R\bin\R.exe CMD build --keep-empty-dirs --no-resave-data biodbKegg StartedAt: 2024-10-16 17:51:56 -0400 (Wed, 16 Oct 2024) EndedAt: 2024-10-16 17:54:55 -0400 (Wed, 16 Oct 2024) EllapsedTime: 179.9 seconds RetCode: 0 Status: OK PackageFile: biodbKegg_1.10.2.tar.gz PackageFileSize: 567.9 KiB