Package: biodbKegg Version: 1.10.2 Command: /Library/Frameworks/R.framework/Resources/bin/R CMD INSTALL biodbKegg StartedAt: 2024-10-16 16:22:37 -0400 (Wed, 16 Oct 2024) EndedAt: 2024-10-16 16:23:18 -0400 (Wed, 16 Oct 2024) EllapsedTime: 40.8 seconds RetCode: 0 Status: OK