Package: biodbKegg Version: 1.10.2 Command: /Library/Frameworks/R.framework/Resources/bin/R CMD check --install=check:biodbKegg.install-out.txt --library=/Library/Frameworks/R.framework/Resources/library --no-vignettes --timings biodbKegg_1.10.2.tar.gz StartedAt: 2024-10-17 01:49:17 -0400 (Thu, 17 Oct 2024) EndedAt: 2024-10-17 02:06:28 -0400 (Thu, 17 Oct 2024) EllapsedTime: 1031.4 seconds RetCode: 0 Status: OK CheckDir: biodbKegg.Rcheck Warnings: 0