Package: biodbKegg Version: 1.10.2 Command: /Library/Frameworks/R.framework/Resources/bin/R CMD build --keep-empty-dirs --no-resave-data biodbKegg StartedAt: 2024-10-16 17:29:03 -0400 (Wed, 16 Oct 2024) EndedAt: 2024-10-16 17:31:45 -0400 (Wed, 16 Oct 2024) EllapsedTime: 161.3 seconds RetCode: 0 Status: OK PackageFile: biodbKegg_1.10.2.tar.gz PackageFileSize: 626.2 KiB