Package: biodbHmdb Version: 1.10.2 Command: chmod a+r biodbHmdb -R && E:\biocbuild\bbs-3.19-bioc\R\bin\R.exe CMD build --keep-empty-dirs --no-resave-data biodbHmdb StartedAt: 2024-10-16 17:51:54 -0400 (Wed, 16 Oct 2024) EndedAt: 2024-10-16 17:54:04 -0400 (Wed, 16 Oct 2024) EllapsedTime: 131.0 seconds RetCode: 0 Status: OK PackageFile: biodbHmdb_1.10.2.tar.gz PackageFileSize: 410.8 KiB