Package: biodbHmdb Version: 1.10.0 Command: rm -rf biodbHmdb.buildbin-libdir && mkdir biodbHmdb.buildbin-libdir && F:\biocbuild\bbs-3.19-bioc\R\bin\R.exe CMD INSTALL --build --library=biodbHmdb.buildbin-libdir biodbHmdb_1.10.0.tar.gz StartedAt: 2024-06-27 07:54:13 -0400 (Thu, 27 Jun 2024) EndedAt: 2024-06-27 07:55:13 -0400 (Thu, 27 Jun 2024) EllapsedTime: 59.6 seconds RetCode: 0 Status: OK PackageFile: biodbHmdb_1.10.0.zip PackageFileSize: 981 KiB