Package: biodbHmdb Version: 1.10.2 Command: /home/biocbuild/bbs-3.19-bioc/R/bin/R CMD check --install=check:biodbHmdb.install-out.txt --library=/home/biocbuild/bbs-3.19-bioc/R/site-library --timings biodbHmdb_1.10.2.tar.gz StartedAt: 2024-10-16 22:08:27 -0400 (Wed, 16 Oct 2024) EndedAt: 2024-10-16 22:09:23 -0400 (Wed, 16 Oct 2024) EllapsedTime: 56.1 seconds RetCode: 1 Status: ERROR CheckDir: biodbHmdb.Rcheck Warnings: NA