Package: biodbHmdb Version: 1.10.2 Command: /Library/Frameworks/R.framework/Resources/bin/R CMD check --install=check:biodbHmdb.install-out.txt --library=/Library/Frameworks/R.framework/Resources/library --no-vignettes --timings biodbHmdb_1.10.2.tar.gz StartedAt: 2024-10-17 01:49:05 -0400 (Thu, 17 Oct 2024) EndedAt: 2024-10-17 01:51:36 -0400 (Thu, 17 Oct 2024) EllapsedTime: 150.9 seconds RetCode: 0 Status: OK CheckDir: biodbHmdb.Rcheck Warnings: 0