Package: biodbHmdb Version: 1.10.2 Command: /Library/Frameworks/R.framework/Resources/bin/R CMD build --keep-empty-dirs --no-resave-data biodbHmdb StartedAt: 2024-10-16 17:28:27 -0400 (Wed, 16 Oct 2024) EndedAt: 2024-10-16 17:30:18 -0400 (Wed, 16 Oct 2024) EllapsedTime: 111.0 seconds RetCode: 0 Status: OK PackageFile: biodbHmdb_1.10.2.tar.gz PackageFileSize: 409.2 KiB