Package: biodbHmdb Version: 1.10.0 Command: /home/biocbuild/R/R-beta-2024-04-15_r86425/bin/R CMD check --install=check:biodbHmdb.install-out.txt --library=/home/biocbuild/R/R-beta-2024-04-15_r86425/site-library --no-vignettes --timings biodbHmdb_1.10.0.tar.gz StartedAt: 2024-05-09 05:16:14 -0000 (Thu, 09 May 2024) EndedAt: 2024-05-09 05:19:19 -0000 (Thu, 09 May 2024) EllapsedTime: 185.5 seconds RetCode: 0 Status: WARNINGS CheckDir: biodbHmdb.Rcheck Warnings: 2