Package: biodbHmdb Version: 1.10.0 Command: /Library/Frameworks/R.framework/Resources/bin/R CMD build --keep-empty-dirs --no-resave-data biodbHmdb StartedAt: 2024-06-09 18:43:05 -0400 (Sun, 09 Jun 2024) EndedAt: 2024-06-09 18:44:01 -0400 (Sun, 09 Jun 2024) EllapsedTime: 55.4 seconds RetCode: 0 Status: OK PackageFile: biodbHmdb_1.10.0.tar.gz PackageFileSize: 405.9 KiB