Package: biodbHmdb Version: 1.10.2 Command: /Library/Frameworks/R.framework/Resources/bin/R CMD INSTALL biodbHmdb StartedAt: 2024-10-16 17:44:16 -0400 (Wed, 16 Oct 2024) EndedAt: 2024-10-16 17:44:54 -0400 (Wed, 16 Oct 2024) EllapsedTime: 38.3 seconds RetCode: 0 Status: OK