Package: biodbExpasy Version: 1.8.1 Command: chmod a+r biodbExpasy -R && E:\biocbuild\bbs-3.19-bioc\R\bin\R.exe CMD build --keep-empty-dirs --no-resave-data biodbExpasy StartedAt: 2024-10-16 17:51:46 -0400 (Wed, 16 Oct 2024) EndedAt: 2024-10-16 17:53:16 -0400 (Wed, 16 Oct 2024) EllapsedTime: 90.2 seconds RetCode: 0 Status: OK PackageFile: biodbExpasy_1.8.1.tar.gz PackageFileSize: 303.9 KiB