Package: biodbExpasy Version: 1.8.1 Command: rm -rf biodbExpasy.buildbin-libdir && mkdir biodbExpasy.buildbin-libdir && E:\biocbuild\bbs-3.19-bioc\R\bin\R.exe CMD INSTALL --build --library=biodbExpasy.buildbin-libdir biodbExpasy_1.8.1.tar.gz StartedAt: 2024-10-17 07:25:23 -0400 (Thu, 17 Oct 2024) EndedAt: 2024-10-17 07:25:48 -0400 (Thu, 17 Oct 2024) EllapsedTime: 25.2 seconds RetCode: 0 Status: OK PackageFile: biodbExpasy_1.8.1.zip PackageFileSize: 383.1 KiB