Package: biodbExpasy Version: 1.8.0 Command: chmod a+r biodbExpasy -R && F:\biocbuild\bbs-3.19-bioc\R\bin\R.exe CMD build --keep-empty-dirs --no-resave-data biodbExpasy StartedAt: 2024-06-26 17:26:00 -0400 (Wed, 26 Jun 2024) EndedAt: 2024-06-26 17:26:39 -0400 (Wed, 26 Jun 2024) EllapsedTime: 39.7 seconds RetCode: 0 Status: OK PackageFile: biodbExpasy_1.8.0.tar.gz PackageFileSize: 303.9 KiB