Package: biodbExpasy Version: 1.8.0 Command: /Library/Frameworks/R.framework/Resources/bin/R CMD check --install=check:biodbExpasy.install-out.txt --library=/Library/Frameworks/R.framework/Resources/library --no-vignettes --timings biodbExpasy_1.8.0.tar.gz StartedAt: 2024-06-09 19:01:27 -0400 (Sun, 09 Jun 2024) EndedAt: 2024-06-09 19:02:47 -0400 (Sun, 09 Jun 2024) EllapsedTime: 79.9 seconds RetCode: 1 Status: ERROR CheckDir: biodbExpasy.Rcheck Warnings: NA