Package: biodbExpasy Version: 1.8.0 Command: /Library/Frameworks/R.framework/Resources/bin/R CMD build --keep-empty-dirs --no-resave-data biodbExpasy StartedAt: 2024-06-09 15:59:37 -0400 (Sun, 09 Jun 2024) EndedAt: 2024-06-09 16:00:10 -0400 (Sun, 09 Jun 2024) EllapsedTime: 32.3 seconds RetCode: 0 Status: OK PackageFile: biodbExpasy_1.8.0.tar.gz PackageFileSize: 303.7 KiB