Package: biodbExpasy Version: 1.8.1 Command: /Library/Frameworks/R.framework/Resources/bin/R CMD INSTALL biodbExpasy StartedAt: 2024-10-16 17:44:10 -0400 (Wed, 16 Oct 2024) EndedAt: 2024-10-16 17:44:18 -0400 (Wed, 16 Oct 2024) EllapsedTime: 8.6 seconds RetCode: 0 Status: OK