Package: biodbExpasy Version: 1.8.1 Command: /Library/Frameworks/R.framework/Resources/bin/R CMD check --install=check:biodbExpasy.install-out.txt --library=/Library/Frameworks/R.framework/Resources/library --no-vignettes --timings biodbExpasy_1.8.1.tar.gz StartedAt: 2024-10-17 14:03:18 -0400 (Thu, 17 Oct 2024) EndedAt: 2024-10-17 14:04:26 -0400 (Thu, 17 Oct 2024) EllapsedTime: 68.3 seconds RetCode: 0 Status: OK CheckDir: biodbExpasy.Rcheck Warnings: 0