Package: biodbExpasy Version: 1.8.1 Command: rm -rf biodbExpasy.buildbin-libdir && mkdir biodbExpasy.buildbin-libdir && /Users/biocbuild/BBS/utils/build-universal.sh biodbExpasy_1.8.1.tar.gz /Library/Frameworks/R.framework/Resources/bin/R biodbExpasy.buildbin-libdir StartedAt: 2024-10-18 17:31:15 -0400 (Fri, 18 Oct 2024) EndedAt: 2024-10-18 17:31:28 -0400 (Fri, 18 Oct 2024) EllapsedTime: 12.7 seconds RetCode: 0 Status: OK PackageFile: biodbExpasy_1.8.1.tgz PackageFileSize: 377.1 KiB