Package: biodbExpasy Version: 1.8.1 Maintainer: Pierrick Roger MaintainerEmail: pierrick.roger at cea.fr git_url: https://git.bioconductor.org/packages/biodbExpasy git_branch: RELEASE_3_19 git_last_commit: 8918846 git_last_commit_date: 2024-08-03 12:10:16 -0400 (Sat, 03 Aug 2024)