Package: biodbChebi Version: 1.10.0 Command: chmod a+r biodbChebi -R && E:\biocbuild\bbs-3.19-bioc\R\bin\R.exe CMD build --keep-empty-dirs --no-resave-data biodbChebi StartedAt: 2024-10-16 17:51:36 -0400 (Wed, 16 Oct 2024) EndedAt: 2024-10-16 17:53:25 -0400 (Wed, 16 Oct 2024) EllapsedTime: 109.3 seconds RetCode: 0 Status: OK PackageFile: biodbChebi_1.10.0.tar.gz PackageFileSize: 312.2 KiB