Package: biodbChebi Version: 1.10.0 Command: /Library/Frameworks/R.framework/Resources/bin/R CMD INSTALL biodbChebi StartedAt: 2024-10-16 16:26:02 -0400 (Wed, 16 Oct 2024) EndedAt: 2024-10-16 16:26:19 -0400 (Wed, 16 Oct 2024) EllapsedTime: 17.2 seconds RetCode: 0 Status: OK