Package: biodbChebi Version: 1.10.0 Command: /Library/Frameworks/R.framework/Resources/bin/R CMD check --install=check:biodbChebi.install-out.txt --library=/Library/Frameworks/R.framework/Resources/library --no-vignettes --timings biodbChebi_1.10.0.tar.gz StartedAt: 2024-06-09 19:01:11 -0400 (Sun, 09 Jun 2024) EndedAt: 2024-06-09 19:02:38 -0400 (Sun, 09 Jun 2024) EllapsedTime: 86.5 seconds RetCode: 0 Status: OK CheckDir: biodbChebi.Rcheck Warnings: 0