Package: biodbChebi Version: 1.10.0 Command: /home/biocbuild/R/R-beta-2024-04-15_r86425/bin/R CMD INSTALL biodbChebi StartedAt: 2024-05-08 20:52:59 -0000 (Wed, 08 May 2024) EndedAt: 2024-05-08 20:53:09 -0000 (Wed, 08 May 2024) EllapsedTime: 9.1 seconds RetCode: 0 Status: OK